BEGIN:VCALENDAR
VERSION:2.0
PRODID:-//Plone.org//NONSGML plone.app.event//EN
X-WR-TIMEZONE:Europe/Oslo
BEGIN:VEVENT
SUMMARY:Bellas bekymring - en lesestund for barnehager
DTSTART;TZID=Europe/Oslo;VALUE=DATE-TIME:20260423T093000
DTEND;TZID=Europe/Oslo;VALUE=DATE-TIME:20260423T101000
DTSTAMP;VALUE=DATE-TIME:20260423T104034Z
UID:a8a30efd40c04db99cc16465be4367f8
CATEGORIES:Ny-Krohnborg fellesbibliotek
CATEGORIES:BARN
CATEGORIES:Lesestund
CONTACT:Gunnbjørg\, gunnbjorg.johannessen@bergen.kommune.no
CREATED;VALUE=DATE-TIME:20260305T094909Z
DESCRIPTION:Velkommen til litteraturformidling på Ny-Krohnborg fellesbibl
 iotek sammen med din barnehagegruppe
LAST-MODIFIED;VALUE=DATE-TIME:20260305T143322Z
LOCATION:Ny-Krohnborg fellesbibliotek
URL:https://bergenbibliotek.no/bibliotekene/ny-krohnborg-fellesbibliotek/b
 ellas-bekymring-en-lesestund-for-barnehager-3
END:VEVENT
BEGIN:VEVENT
SUMMARY:Norsktrening i regi av Røde Kors
DTSTART;TZID=Europe/Oslo;VALUE=DATE-TIME:20260423T103000
DTEND;TZID=Europe/Oslo;VALUE=DATE-TIME:20260423T123000
DTSTAMP;VALUE=DATE-TIME:20260423T104034Z
UID:f799dffb77194df8a1ecbadb752a7a9f
CATEGORIES:Hovedbiblioteket
CATEGORIES:Norsktrening
CATEGORIES:Voksne
CATEGORIES:Språk
CREATED;VALUE=DATE-TIME:20220516T115100Z
DESCRIPTION:Norsktrening er for flyktninger og innvandrere som vil trene p
 å norsk språk i en uformell sammenheng. Arrangeres i samarbeid med Røde
  Kors.
LAST-MODIFIED;VALUE=DATE-TIME:20260420T063907Z
LOCATION:Hovedbiblioteket\, Bærekraftslaben
URL:https://bergenbibliotek.no/arrangement/norsktrening-i-regi-av-rode-kor
 s-torsdager
END:VEVENT
BEGIN:VEVENT
SUMMARY:Lesebanen: Felles lesing på Bybanen på verdens bokdag
DTSTART;TZID=Europe/Oslo;VALUE=DATE-TIME:20260423T110000
DTEND;TZID=Europe/Oslo;VALUE=DATE-TIME:20260423T121500
DTSTAMP;VALUE=DATE-TIME:20260423T104034Z
UID:d0eb24fde07542e191fcea9f1a48bb6b
CATEGORIES:Litteratur
CATEGORIES:Voksen
CATEGORIES:For alle
CATEGORIES:UNG
CATEGORIES:Hovedbiblioteket
CATEGORIES:Lese
CREATED;VALUE=DATE-TIME:20260408T094336Z
DESCRIPTION:Kom om bord på "Lesebanen" med oss når vi feirer verdens bok
 dag 23. april. Vi leser i fellesskap på Bybanen. Turen går fra Hovedbibl
 ioteket til Fana bibliotek\, og der venter det en litterær godbit. Blir d
 u med?
LAST-MODIFIED;VALUE=DATE-TIME:20260415T110229Z
LOCATION:Lesebanen (Bybanen)
URL:https://bergenbibliotek.no/arrangement/lesebanen-felles-lesing-pa-byba
 nen-pa-verdens-bokdag-23-april
END:VEVENT
BEGIN:VEVENT
SUMMARY:Gratis datahjelp!
DTSTART;TZID=Europe/Oslo;VALUE=DATE-TIME:20260423T120000
DTEND;TZID=Europe/Oslo;VALUE=DATE-TIME:20260423T140000
DTSTAMP;VALUE=DATE-TIME:20260423T104034Z
UID:b6c63589681346feba1c7d5649ae33f2
CATEGORIES:Åsane bibliotek
CATEGORIES:Åsane bibliotek infoskjerm
CATEGORIES:Datahjelp
CATEGORIES:Senior
CATEGORIES:Data
CATEGORIES:Digitale ferdigheter
CATEGORIES:Læring
CATEGORIES:Voksen
CONTACT:Mail:\, 47451003\, seniornettasane@gmail.com\, https://fb.me/e/43U
 ACoZFP
CREATED;VALUE=DATE-TIME:20260127T152313Z
DESCRIPTION:Velkommen til individuell "datahjelp" hos Seniornett Åsane og
  Åsane bibliotek!
LAST-MODIFIED;VALUE=DATE-TIME:20260208T122521Z
LOCATION:Åsane kulturhus\, Verksted for kunst og håndverk
URL:https://bergenbibliotek.no/bibliotekene/aasane/gratis-datahjelp-11
END:VEVENT
BEGIN:VEVENT
SUMMARY:Datahjelp på Loddefjord bibliotek
DTSTART;TZID=Europe/Oslo;VALUE=DATE-TIME:20260423T123000
DTEND;TZID=Europe/Oslo;VALUE=DATE-TIME:20260423T143000
DTSTAMP;VALUE=DATE-TIME:20260423T104034Z
UID:92629f4a4f61475da25a1640fac78538
CATEGORIES:Digitale ferdigheter
CATEGORIES:Læring
CATEGORIES:Loddefjord bibliotek
CATEGORIES:Datahjelp
CATEGORIES:Loddefjord
CREATED;VALUE=DATE-TIME:20260108T124559Z
DESCRIPTION:Datahjelp er et tilbud til alle som har lyst på veiledning i 
 digitale verktøy som telefon\, nettbrett og datamaskin.
LAST-MODIFIED;VALUE=DATE-TIME:20260109T124928Z
LOCATION:Loddefjord bibliotek
URL:https://bergenbibliotek.no/bibliotekene/laksevag-bydel/faste-hendelser
 -pa-loddefjord/datahjelp-loddefjord-230426
END:VEVENT
BEGIN:VEVENT
SUMMARY:Lesesirkel: Nervøse tilstander av Tsi Tsi Dangarembga
DTSTART;TZID=Europe/Oslo;VALUE=DATE-TIME:20260423T130000
DTEND;TZID=Europe/Oslo;VALUE=DATE-TIME:20260423T143000
DTSTAMP;VALUE=DATE-TIME:20260423T104034Z
UID:879fe9b0d6634deb938d48f713e01575
CATEGORIES:Fana bibliotek
CATEGORIES:infoskjerm Fana
CATEGORIES:Litteratur
CATEGORIES:Lesesirkel
CATEGORIES:Voksen
CONTACT:Hildebjørg Gysland\, hildebjorg.gysland@bergen.kommune.no
CREATED;VALUE=DATE-TIME:20251204T164720Z
DESCRIPTION:Bli med på Fana biblioteks lesesirkel!
LAST-MODIFIED;VALUE=DATE-TIME:20251212T065039Z
LOCATION:Fana bibliotek
URL:https://bergenbibliotek.no/bibliotekene/fana/lesesirkel-nervose-tilsta
 nder-av-tsi-tsi-dangarembga
END:VEVENT
BEGIN:VEVENT
SUMMARY:Sjakk med Ariza
DTSTART;TZID=Europe/Oslo;VALUE=DATE-TIME:20260423T140000
DTEND;TZID=Europe/Oslo;VALUE=DATE-TIME:20260423T150000
DTSTAMP;VALUE=DATE-TIME:20260423T104034Z
UID:58a6014237c84a4e98ed5fa763a9256e
CATEGORIES:Barn
CATEGORIES:Ny-Krohnborg fellesbibliotek
CATEGORIES:Spill
CONTACT:Gunnbjørg Johannessen\, gunnbjorg.johannessen@bergen.kommune.no
CREATED;VALUE=DATE-TIME:20260211T124736Z
DESCRIPTION:Bli med på sjakkurs på Ny-Krohnborg fellesbibliotek!   Lær 
 deg gode tips og triks\, ledet av Ariza H. Mansoor\, og spill verdens kule
 ste spill sammen med vennene dine. Kanskje blir du også kjent med noen ny
 e venner å dele sjakkgleden med?
LAST-MODIFIED;VALUE=DATE-TIME:20260415T124031Z
LOCATION:Ny-Krohnborg fellesbibliotek
URL:https://bergenbibliotek.no/bibliotekene/ny-krohnborg-fellesbibliotek/s
 jakk-med-ariza-10
END:VEVENT
BEGIN:VEVENT
SUMMARY:Dyplesning spesial på verdens bokdag
DTSTART;TZID=Europe/Oslo;VALUE=DATE-TIME:20260423T140000
DTEND;TZID=Europe/Oslo;VALUE=DATE-TIME:20260423T160000
DTSTAMP;VALUE=DATE-TIME:20260423T104034Z
UID:dfd84521fe4742a4930f5268a986e55b
CATEGORIES:Hovedbiblioteket
CATEGORIES:Dyplesning
CATEGORIES:Litteratur
CATEGORIES:Voksen
CREATED;VALUE=DATE-TIME:20260415T104451Z
DESCRIPTION:Velkommen til en spesialutgave av vår faste stille lesesirkel
  Dyplesning på verdens bokdag. Vi møtes på Hovedbiblioteket for å lese
  stille i to timer. Elektronikk er ikke tillatt.
LAST-MODIFIED;VALUE=DATE-TIME:20260415T105754Z
LOCATION:Hovedbiblioteket\, Møterom 1
URL:https://bergenbibliotek.no/arrangement/dyplesning-les-sammen-med-oss-p
 a-verdens-bokdag-pamelding
END:VEVENT
BEGIN:VEVENT
SUMMARY:Juniorklubb
DTSTART;TZID=Europe/Oslo;VALUE=DATE-TIME:20260423T143000
DTEND;TZID=Europe/Oslo;VALUE=DATE-TIME:20260423T170000
DTSTAMP;VALUE=DATE-TIME:20260423T104034Z
UID:ae9a2f8165494108a6255a8eadda77e1
CATEGORIES:Barnas Biblab
CATEGORIES:Verksted
CATEGORIES:Barn
CREATED;VALUE=DATE-TIME:20260306T083705Z
DESCRIPTION:Juniorklubben er på Barnas BibLab!
LAST-MODIFIED;VALUE=DATE-TIME:20260306T091052Z
LOCATION:Barnas BibLab\, Sletten senter (2. etasje)
URL:https://bergenbibliotek.no/bibliotekene/aarstadbibliotekene/copy3_of_j
 uniorklubb
END:VEVENT
BEGIN:VEVENT
SUMMARY:Fiksetorsdag
DTSTART;TZID=Europe/Oslo;VALUE=DATE-TIME:20260423T150000
DTEND;TZID=Europe/Oslo;VALUE=DATE-TIME:20260423T193000
DTSTAMP;VALUE=DATE-TIME:20260423T104034Z
UID:2189854f912c43c9a48d6cebdd4c41f9
CATEGORIES:Bærekraftslaben arrangement
CATEGORIES:Hovedbiblioteket
CATEGORIES:Fast tilbud
CATEGORIES:Verksted
CATEGORIES:Hobby/Håndarbeid
CATEGORIES:For alle
CATEGORIES:Bærekraft
CREATED;VALUE=DATE-TIME:20221121T140835Z
DESCRIPTION:Kom til Bærekraftslaben på torsdager! Her får du grunnlegge
 nde opplæring i vårt utstyr. Lage podkast? Sy hull i buksen? 3D-printe r
 eservedel? Alt dette og mer kan vi hjelpe deg med. Helt gratis.
LAST-MODIFIED;VALUE=DATE-TIME:20260413T073243Z
LOCATION:Hovedbiblioteket\, Bærekraftslaben
URL:https://bergenbibliotek.no/arrangement/copy8_of_fiksetorsdag-2026-2
END:VEVENT
BEGIN:VEVENT
SUMMARY:Kortspilling på Fabelrommet
DTSTART;TZID=Europe/Oslo;VALUE=DATE-TIME:20260423T150000
DTEND;TZID=Europe/Oslo;VALUE=DATE-TIME:20260423T200000
DTSTAMP;VALUE=DATE-TIME:20260423T104034Z
UID:40a7f732714448c09a665ecd6712aed1
CATEGORIES:Hovedbiblioteket
CATEGORIES:Spill
CATEGORIES:For alle
CONTACT:Benjamin Widerøe\, benjamin.wideroe@bergen.kommune.no
CREATED;VALUE=DATE-TIME:20241203T145322Z
DESCRIPTION:Samlekortspill Bergen kommer til Hovedbiblioteket for å dele 
 sin erfaring og engasjement for samlekortspill.
LAST-MODIFIED;VALUE=DATE-TIME:20260413T074025Z
LOCATION:Hovedbiblioteket\, Fabelrommet
URL:https://bergenbibliotek.no/arrangement/kortspilling_fabelrom_2304
END:VEVENT
BEGIN:VEVENT
SUMMARY:Verksted på verdens bokdag: Lag en notatbok!
DTSTART;TZID=Europe/Oslo;VALUE=DATE-TIME:20260423T170000
DTEND;TZID=Europe/Oslo;VALUE=DATE-TIME:20260423T190000
DTSTAMP;VALUE=DATE-TIME:20260423T104034Z
UID:8b352de826fd4d118d01d4e7000deb53
CATEGORIES:Hovedbiblioteket
CATEGORIES:Verksted
CATEGORIES:Bærekraftslaben
CATEGORIES:For alle
CATEGORIES:Verdens bokdag
CATEGORIES:Voksen
CATEGORIES:UNG
CREATED;VALUE=DATE-TIME:20260414T090240Z
DESCRIPTION:På verdens bokdag torsdag 23. april kan du komme til Bærekra
 ftslaben på Hovedbiblioteket og lage din egen notatbok helt fra bunnen av
 .
LAST-MODIFIED;VALUE=DATE-TIME:20260416T124520Z
LOCATION:Hovedbiblioteket\, Bærekraftslaben
URL:https://bergenbibliotek.no/arrangement/verksted-lag-en-notatbok
END:VEVENT
BEGIN:VEVENT
SUMMARY:Språkkafé / Language café
DTSTART;TZID=Europe/Oslo;VALUE=DATE-TIME:20260423T173000
DTEND;TZID=Europe/Oslo;VALUE=DATE-TIME:20260423T190000
DTSTAMP;VALUE=DATE-TIME:20260423T104034Z
UID:a165974f27dc4b3c91e0f55e2032902c
CATEGORIES:Språk
CATEGORIES:Språkkafé
CATEGORIES:Voksen
CATEGORIES:Læring
CATEGORIES:Loddefjord
CATEGORIES:Loddefjord bibliotek
CATEGORIES:Loddefjord Laksevåg
CONTACT:Laksevåg Røde Kors\, +47 934 54 001\, laksevaag@rodekors.org
CREATED;VALUE=DATE-TIME:20260105T103137Z
DESCRIPTION:Øv på å snakke norsk på biblioteket! / Practice Norwegian 
 at the library!
LAST-MODIFIED;VALUE=DATE-TIME:20260105T144500Z
LOCATION:Loddefjord bibliotek
URL:https://bergenbibliotek.no/bibliotekene/laksevag-bydel/faste-hendelser
 -pa-loddefjord/sprakkafe-loddefjord-230426
END:VEVENT
BEGIN:VEVENT
SUMMARY:Kodeklubben Hovedbiblioteket: Scratch (drop in)
DTSTART;TZID=Europe/Oslo;VALUE=DATE-TIME:20260423T180000
DTEND;TZID=Europe/Oslo;VALUE=DATE-TIME:20260423T193000
DTSTAMP;VALUE=DATE-TIME:20260423T104034Z
UID:0201acf8eb674110a4c21e3681fed3a0
CATEGORIES:Barn
CATEGORIES:Kodeklubb
CATEGORIES:Læring
CATEGORIES:Programmering
CATEGORIES:Hovedbiblioteket
CONTACT:BMW\, benjamin.wideroe@bergen.kommune.no
CREATED;VALUE=DATE-TIME:20251021T130756Z
DESCRIPTION:Lek og lær med programmering!
LAST-MODIFIED;VALUE=DATE-TIME:20260421T121027Z
LOCATION:Hovedbiblioteket\, Bærekraftslaben
URL:https://bergenbibliotek.no/arrangement/22_kodeklubben-hovedbiblioteket
 -scratch
END:VEVENT
BEGIN:VEVENT
SUMMARY:Kreaklubb
DTSTART;TZID=Europe/Oslo;VALUE=DATE-TIME:20260423T180000
DTEND;TZID=Europe/Oslo;VALUE=DATE-TIME:20260423T190000
DTSTAMP;VALUE=DATE-TIME:20260423T104034Z
UID:f204a8465e914d7790887e10daaeae72
CATEGORIES:Laksevåg
CATEGORIES:Laksevåg bibliotek
CATEGORIES:Håndarbeid
CATEGORIES:Voksen
CREATED;VALUE=DATE-TIME:20260123T084124Z
DESCRIPTION:Har du alltid tusen kreative prosjekt på gong? Det har vi! Li
 ker du å prate medan du held på med handarbeid? Perfekt\, det gjer vi ò
 g!
LAST-MODIFIED;VALUE=DATE-TIME:20260326T172834Z
LOCATION:Laksevåg bibliotek
URL:https://bergenbibliotek.no/bibliotekene/laksevag-bydel/faste-hendelser
 -pa-laksevag/kreaklubb2304
END:VEVENT
BEGIN:VEVENT
SUMMARY:An Opportunety for Literature
DTSTART;TZID=Europe/Oslo;VALUE=DATE-TIME:20260423T180000
DTEND;TZID=Europe/Oslo;VALUE=DATE-TIME:20260423T200000
DTSTAMP;VALUE=DATE-TIME:20260423T104034Z
UID:63151b55c8b44e9f9d590bfb64f268f0
CATEGORIES:Hovedbiblioteket
CATEGORIES:Amalies hage
CATEGORIES:Litteratur
CATEGORIES:Voksen
CONTACT:Charlotte Myrbråten\, charlotte.myrbraten@bergen.kommune.no
CREATED;VALUE=DATE-TIME:20260326T111704Z
DESCRIPTION:On 23 April\, a new edition of the project “An Opportunity f
 or Literature” will take place\, featuring this year the Spanish writer 
 David Aliaga. The event will be held at the Bergen Public Library from 18:
 00 to 20:00.
LAST-MODIFIED;VALUE=DATE-TIME:20260326T172918Z
LOCATION:Hovedbiblioteket\, Amalies hage
URL:https://bergenbibliotek.no/arrangement/an-opportunety-for-literature
END:VEVENT
BEGIN:VEVENT
SUMMARY:På tokt i Arktis med 106 år gamal notgavlbåt
DTSTART;TZID=Europe/Oslo;VALUE=DATE-TIME:20260423T180000
DTEND;TZID=Europe/Oslo;VALUE=DATE-TIME:20260423T190000
DTSTAMP;VALUE=DATE-TIME:20260423T104034Z
UID:ff2ee2c815b347b49833a3492ee87907
CATEGORIES:foredrag
CATEGORIES:infoskjerm hb
CATEGORIES:Foredrag
CATEGORIES:Voksen
CATEGORIES:Hovedbiblioteket
CREATED;VALUE=DATE-TIME:20260203T094449Z
DESCRIPTION:Arktisk forsking i historisk og aktuelt perspektiv ved havfors
 kar Kjell Nedreaas og filmfotograf og kulturarbeidar Hans Kr. Bukholm. Ved
  Vestmannalaget.
LAST-MODIFIED;VALUE=DATE-TIME:20260203T134510Z
LOCATION:Hovedbiblioteket\, Auditoriet
URL:https://bergenbibliotek.no/arrangement/pa-tokt-i-arktis-med-106-ar-gam
 al-notgavlbat
END:VEVENT
BEGIN:VEVENT
SUMMARY:Kulturrommet UNG
DTSTART;TZID=Europe/Oslo;VALUE=DATE-TIME:20260423T181500
DTEND;TZID=Europe/Oslo;VALUE=DATE-TIME:20260423T201500
DTSTAMP;VALUE=DATE-TIME:20260423T104034Z
UID:c7020bc49e33408e8e0a7d71e8f732d4
CATEGORIES:Barnas Biblab
CATEGORIES:Fast tilbud UNG
CATEGORIES:UNG
CREATED;VALUE=DATE-TIME:20260122T091834Z
DESCRIPTION:Velkommen til Kulturrommet UNG på BibLab!
LAST-MODIFIED;VALUE=DATE-TIME:20260122T122301Z
LOCATION:Barnas BibLab\, Sletten senter (2. etasje)
URL:https://bergenbibliotek.no/bibliotekene/aarstadbibliotekene/copy12_of_
 kulturrommet-ung
END:VEVENT
BEGIN:VTIMEZONE
TZID:Europe/Oslo
X-LIC-LOCATION:Europe/Oslo
BEGIN:DAYLIGHT
DTSTART;VALUE=DATE-TIME:20260329T030000
TZNAME:CEST
TZOFFSETFROM:+0100
TZOFFSETTO:+0200
END:DAYLIGHT
END:VTIMEZONE
END:VCALENDAR
