BEGIN:VCALENDAR
VERSION:2.0
PRODID:-//Plone.org//NONSGML plone.app.event//EN
X-WR-TIMEZONE:Europe/Oslo
BEGIN:VEVENT
SUMMARY:For barnehagar: Lesestund på Fana bibliotek
DTSTART;TZID=Europe/Oslo;VALUE=DATE-TIME:20260420T100000
DTEND;TZID=Europe/Oslo;VALUE=DATE-TIME:20260420T113000
DTSTAMP;VALUE=DATE-TIME:20260420T044032Z
UID:0e02d84d42244c28b57fd3ce1220168e
CATEGORIES:Fana bibliotek
CATEGORIES:Barn
CATEGORIES:Barnehager
CATEGORIES:Barnehage
CATEGORIES:infoskjerm Fana
CONTACT:Siri Raknes\, fana@bergenbibliotek.no
CREATED;VALUE=DATE-TIME:20260213T140729Z
DESCRIPTION:Fana bibliotek ønsker dei eldste i barnehagen (4-6 år) velko
 men på lesestund.
LAST-MODIFIED;VALUE=DATE-TIME:20260217T130912Z
LOCATION:Fana bibliotek
URL:https://bergenbibliotek.no/bibliotekene/fana/copy6_of_baesj-promp-og-f
 is-lesestund-4-6-ar
END:VEVENT
BEGIN:VEVENT
SUMMARY:Håndarbeid og høytlesing
DTSTART;TZID=Europe/Oslo;VALUE=DATE-TIME:20260420T130000
DTEND;TZID=Europe/Oslo;VALUE=DATE-TIME:20260420T143000
DTSTAMP;VALUE=DATE-TIME:20260420T044032Z
UID:917b17153f564722adf22845af8214ef
CATEGORIES:Loddefjord
CATEGORIES:Loddefjord bibliotek
CATEGORIES:Håndarbeid
CATEGORIES:Hobby/Håndarbeid
CATEGORIES:Voksen
CATEGORIES:Bærekraft
CATEGORIES:strikkestund
CATEGORIES:Høytlesing
CREATED;VALUE=DATE-TIME:20250616T133426Z
DESCRIPTION:Ta med deg håndarbeid og godt humør\, så byr vi på kaffe\,
  te og høytlesing fra en god bok.
LAST-MODIFIED;VALUE=DATE-TIME:20251203T081343Z
LOCATION:Loddefjord bibliotek\, Læringsrommet
URL:https://bergenbibliotek.no/bibliotekene/laksevag-bydel/faste-hendelser
 -pa-loddefjord/handarbeid-hoytlesing-200426
END:VEVENT
BEGIN:VEVENT
SUMMARY:Mandagsfilmen matiné: Daughters of the Dust
DTSTART;TZID=Europe/Oslo;VALUE=DATE-TIME:20260420T140000
DTEND;TZID=Europe/Oslo;VALUE=DATE-TIME:20260420T160000
DTSTAMP;VALUE=DATE-TIME:20260420T044032Z
UID:0c3a44349fb248e8985b9b93cf9583e9
CATEGORIES:Film
CATEGORIES:Kino voksen hb
CATEGORIES:Voksen
CATEGORIES:Kino
CATEGORIES:Hovedbiblioteket
CREATED;VALUE=DATE-TIME:20260107T111830Z
DESCRIPTION:Velkommen til kino på biblioteket! Hver mandag i vår kl. 14:
 00 og 18:00 i Auditoriet på Hovedbiblioteket vises kvalitetsfilm for voks
 ne. Vi viser nye filmer\, klassikere og perler i ulike sjangre. Alle visni
 nger er gratis og ingen reservering kreves.
LAST-MODIFIED;VALUE=DATE-TIME:20260116T100449Z
LOCATION:Hovedbiblioteket\, Auditoriet
URL:https://bergenbibliotek.no/arrangement/mandagsfilmen-matine-daughters-
 of-the-dust
END:VEVENT
BEGIN:VEVENT
SUMMARY:Språkkafé norsk-engelsk-spansk
DTSTART;TZID=Europe/Oslo;VALUE=DATE-TIME:20260420T160000
DTEND;TZID=Europe/Oslo;VALUE=DATE-TIME:20260420T180000
DTSTAMP;VALUE=DATE-TIME:20260420T044032Z
UID:67f4d0c1a66b48b78c761420afe5cf75
CATEGORIES:Hovedbiblioteket
CATEGORIES:Språk
CATEGORIES:Språkkafé
CATEGORIES:Voksen
CREATED;VALUE=DATE-TIME:20250129T082411Z
DESCRIPTION:Biblioteket inviterer til språkkafe på norsk\, engelsk og sp
 ansk hver mandag. Språkkafeen blir i UROM\, 2. etasje.
LAST-MODIFIED;VALUE=DATE-TIME:20251205T131813Z
LOCATION:Hovedbiblioteket 2. etasje
URL:https://bergenbibliotek.no/arrangement/sprakkafe-norsk-engelsk-spansk-
 mandager-11
END:VEVENT
BEGIN:VEVENT
SUMMARY:Kaffe og filosofi: Mellom Platon og Aristoteles
DTSTART;TZID=Europe/Oslo;VALUE=DATE-TIME:20260420T160000
DTEND;TZID=Europe/Oslo;VALUE=DATE-TIME:20260420T170000
DTSTAMP;VALUE=DATE-TIME:20260420T044032Z
UID:dae5b8a4b91b4e39a3e2ca7591829c80
CATEGORIES:Hovedbiblioteket
CATEGORIES:Amalies hage
CATEGORIES:Foredrag
CATEGORIES:Filosofi
CATEGORIES:Voksen
CATEGORIES:Kaffe og filosofi
CREATED;VALUE=DATE-TIME:20260113T080248Z
DESCRIPTION:Har du lyst til å utforske filosofiske spørsmål i en hyggel
 ig og uforpliktende atmosfære? Bli med på "Kaffe og filosofi” på Hove
 dbiblioteket.
LAST-MODIFIED;VALUE=DATE-TIME:20260211T125945Z
LOCATION:Hovedbiblioteket\, Amalies hage
URL:https://bergenbibliotek.no/arrangement/kaffe-og-filosofi-aristoteles-p
 laton
END:VEVENT
BEGIN:VEVENT
SUMMARY:Mandagsfiks
DTSTART;TZID=Europe/Oslo;VALUE=DATE-TIME:20260420T170000
DTEND;TZID=Europe/Oslo;VALUE=DATE-TIME:20260420T183000
DTSTAMP;VALUE=DATE-TIME:20260420T044032Z
UID:a04d0eef69fb4a1b86f03affb9ff1630
CATEGORIES:Laksevåg
CATEGORIES:Laksevåg bibliotek
CATEGORIES:Håndarbeid
CATEGORIES:Verksted
CATEGORIES:Voksen
CREATED;VALUE=DATE-TIME:20260123T084124Z
DESCRIPTION:Lån symaskiner på biblioteket og fiks dine egne klær!
LAST-MODIFIED;VALUE=DATE-TIME:20260326T172734Z
LOCATION:Laksevåg bibliotek
URL:https://bergenbibliotek.no/bibliotekene/laksevag-bydel/faste-hendelser
 -pa-laksevag/mandagsfiks2004
END:VEVENT
BEGIN:VEVENT
SUMMARY:Malemandag
DTSTART;TZID=Europe/Oslo;VALUE=DATE-TIME:20260420T170000
DTEND;TZID=Europe/Oslo;VALUE=DATE-TIME:20260420T190000
DTSTAMP;VALUE=DATE-TIME:20260420T044032Z
UID:e00368700acb410384c78e289d73854f
CATEGORIES:Loddefjord bibliotek
CATEGORIES:Loddefjord Laksevåg
CATEGORIES:Malemandag
CATEGORIES:Voksen
CATEGORIES:Hobby/Håndarbeid
CREATED;VALUE=DATE-TIME:20260109T104012Z
DESCRIPTION:Kanaliser din indre Bob Ross med oss!
LAST-MODIFIED;VALUE=DATE-TIME:20260321T112206Z
LOCATION:Loddefjord bibliotek\, Læringsrommet
URL:https://bergenbibliotek.no/bibliotekene/laksevag-bydel/faste-hendelser
 -pa-loddefjord/malemandag-200426
END:VEVENT
BEGIN:VEVENT
SUMMARY:Mandagsfilmen: Daughters of the Dust
DTSTART;TZID=Europe/Oslo;VALUE=DATE-TIME:20260420T180000
DTEND;TZID=Europe/Oslo;VALUE=DATE-TIME:20260420T200000
DTSTAMP;VALUE=DATE-TIME:20260420T044032Z
UID:42f6457077e840098360ff5a73b8394c
CATEGORIES:Film
CATEGORIES:Kino voksen hb
CATEGORIES:Voksen
CATEGORIES:Kino
CATEGORIES:Hovedbiblioteket
CREATED;VALUE=DATE-TIME:20260107T112241Z
DESCRIPTION:Velkommen til kino på biblioteket! Hver mandag i vår kl. 14:
 00 og 18:00 i Auditoriet på Hovedbiblioteket vises kvalitetsfilm for voks
 ne. Vi viser nye filmer\, klassikere og perler i ulike sjangre. Alle visni
 nger er gratis og ingen reservering kreves.
LAST-MODIFIED;VALUE=DATE-TIME:20260116T100517Z
LOCATION:Hovedbiblioteket\, Auditoriet
URL:https://bergenbibliotek.no/arrangement/mandagsfilmen-daughters-of-the-
 dust
END:VEVENT
BEGIN:VEVENT
SUMMARY:Språkkafé på Barnas BibLab
DTSTART;TZID=Europe/Oslo;VALUE=DATE-TIME:20260420T183000
DTEND;TZID=Europe/Oslo;VALUE=DATE-TIME:20260420T200000
DTSTAMP;VALUE=DATE-TIME:20260420T044032Z
UID:89320d28106c439d94732f54a854f703
CATEGORIES:Barnas Biblab
CATEGORIES:Språkkafe
CATEGORIES:Språktrening
CATEGORIES:Språk
CATEGORIES:Læring
CATEGORIES:Voksen
CREATED;VALUE=DATE-TIME:20250106T082050Z
DESCRIPTION:Øv på å snakke norsk i en gruppe! / Practice speaking Norwe
 gian in a group!
LAST-MODIFIED;VALUE=DATE-TIME:20260105T121336Z
LOCATION:Barnas BibLab\, Sletten senter (2. etasje)
URL:https://bergenbibliotek.no/bibliotekene/aarstadbibliotekene/copy14_of_
 sprakkafe-biblab-v26
END:VEVENT
BEGIN:VTIMEZONE
TZID:Europe/Oslo
X-LIC-LOCATION:Europe/Oslo
BEGIN:DAYLIGHT
DTSTART;VALUE=DATE-TIME:20260329T030000
TZNAME:CEST
TZOFFSETFROM:+0100
TZOFFSETTO:+0200
END:DAYLIGHT
END:VTIMEZONE
END:VCALENDAR
