BEGIN:VCALENDAR
VERSION:2.0
PRODID:-//Plone.org//NONSGML plone.app.event//EN
X-WR-TIMEZONE:Europe/Oslo
BEGIN:VEVENT
SUMMARY:For barnehage: Lesestund på Barnas BibLab
DTSTART;TZID=Europe/Oslo;VALUE=DATE-TIME:20260421T093000
DTEND;TZID=Europe/Oslo;VALUE=DATE-TIME:20260421T113000
DTSTAMP;VALUE=DATE-TIME:20260421T000117Z
UID:3dee6a02f1794409a199b2d0baadbce6
CATEGORIES:Barn
CATEGORIES:Årstadbibliotekene
CATEGORIES:Barnas Biblab
CATEGORIES:Barnehage
CATEGORIES:Barnehager
CREATED;VALUE=DATE-TIME:20260330T115413Z
DESCRIPTION:Barnehagebesøk på Barnas BibLab
LAST-MODIFIED;VALUE=DATE-TIME:20260407T094423Z
LOCATION:Barnas BibLab\, Sletten senter (2. etasje)
URL:https://bergenbibliotek.no/bibliotekene/aarstadbibliotekene/copy_of_fo
 r-barnehage-lesestund-pa-barnas-biblab
END:VEVENT
BEGIN:VEVENT
SUMMARY:Datahjelp på Hovedbiblioteket
DTSTART;TZID=Europe/Oslo;VALUE=DATE-TIME:20260421T110000
DTEND;TZID=Europe/Oslo;VALUE=DATE-TIME:20260421T130000
DTSTAMP;VALUE=DATE-TIME:20260421T000117Z
UID:3b851c54e43140b7925b9a06d1cf0d7f
CATEGORIES:Hovedbiblioteket
CATEGORIES:Datahjelp
CATEGORIES:Læring
CATEGORIES:Kurs
CATEGORIES:Veiledning
CATEGORIES:Digitale ferdigheter
CATEGORIES:Voksen
CATEGORIES:hb infoskjerm
CREATED;VALUE=DATE-TIME:20240807T112514Z
DESCRIPTION:Hver tirsdag (utenom ferier og høytider) mellom klokken 11.00
  og 13.00 kan du få gratis veiledning i bruk av PC\, nettbrett eller mobi
 l i underetasjen (Møterom 1) på Hovedbiblioteket.
LAST-MODIFIED;VALUE=DATE-TIME:20260114T114959Z
LOCATION:Hovedbiblioteket\, Møterom 1
URL:https://bergenbibliotek.no/arrangement/210426-datahjelp-pa-hovedbiblio
 teket
END:VEVENT
BEGIN:VEVENT
SUMMARY:Litterær lunsj: Eva Røyrane om Naustlandet
DTSTART;TZID=Europe/Oslo;VALUE=DATE-TIME:20260421T120000
DTEND;TZID=Europe/Oslo;VALUE=DATE-TIME:20260421T124500
DTSTAMP;VALUE=DATE-TIME:20260421T000117Z
UID:858eb1ec3d5c496ca97150177471f49d
CATEGORIES:Hovedbiblioteket
CATEGORIES:Litterær lunsj
CATEGORIES:Litteratur
CATEGORIES:Voksen
CREATED;VALUE=DATE-TIME:20180703T063650Z
DESCRIPTION:Forfattar Eva Røyrane og fotograf Oddleiv Apneseth bestemte s
 eg for å reise langs heile norskekysten for å finne ut korleis det eigen
 tleg står til med nausta våre\, og på vegen fann dei både forfall\, h
 åp\, og ein overraskande mangfaldig og rik tradisjon.
LAST-MODIFIED;VALUE=DATE-TIME:20260116T100725Z
LOCATION:Hovedbiblioteket\, Auditoriet
URL:https://bergenbibliotek.no/arrangement/litteraer-lunsj-med-eva-royrane
END:VEVENT
BEGIN:VEVENT
SUMMARY:Litterær lunsj: bokprat
DTSTART;TZID=Europe/Oslo;VALUE=DATE-TIME:20260421T123000
DTEND;TZID=Europe/Oslo;VALUE=DATE-TIME:20260421T130000
DTSTAMP;VALUE=DATE-TIME:20260421T000117Z
UID:b565f33635bb4a299d1b5bc0402e8c04
CATEGORIES:Fyllingsdalen bibliotek
CATEGORIES:Litteratur
CATEGORIES:Voksen
CONTACT:Lene Heiestad\, 5556 8500\, https://www.facebook.com/events/163789
 2470903407
CREATED;VALUE=DATE-TIME:20260106T103000Z
DESCRIPTION:Kom og få med deg boktips fra voksenavdelingen!
LAST-MODIFIED;VALUE=DATE-TIME:20260106T103730Z
LOCATION:Fyllingsdalen bibliotek
URL:https://bergenbibliotek.no/bibliotekene/fyllingsdalen/litteraer-lunsj-
 bokprat-2
END:VEVENT
BEGIN:VEVENT
SUMMARY:Leserom hver tirsdag (kun for påmeldte)
DTSTART;TZID=Europe/Oslo;VALUE=DATE-TIME:20260421T124500
DTEND;TZID=Europe/Oslo;VALUE=DATE-TIME:20260421T144500
DTSTAMP;VALUE=DATE-TIME:20260421T000117Z
UID:470ce32689214545b30ab2fb17646177
CATEGORIES:Hovedbiblioteket
CATEGORIES:Språk
CATEGORIES:Leserom
CATEGORIES:Voksen
CONTACT:Sara Kristine Sortland Nes\, leserom@bergenbibliotek.no
CREATED;VALUE=DATE-TIME:20250104T092212Z
DESCRIPTION:Lesegruppe på lett norsk hver tirsdag klokken 12:45 - 14:45 i
  underetasjen på hovedbiblioteket.
LAST-MODIFIED;VALUE=DATE-TIME:20260120T140806Z
LOCATION:Hovedbiblioteket\, Bærekraftslaben
URL:https://bergenbibliotek.no/arrangement/leserom-hver-tirsdag-15
END:VEVENT
BEGIN:VEVENT
SUMMARY:Språkkafé / Language Café
DTSTART;TZID=Europe/Oslo;VALUE=DATE-TIME:20260421T130000
DTEND;TZID=Europe/Oslo;VALUE=DATE-TIME:20260421T143000
DTSTAMP;VALUE=DATE-TIME:20260421T000117Z
UID:b8974a82505e4cfda2c156dc9d1ac06b
CATEGORIES:Språk
CATEGORIES:Fana bibliotek
CATEGORIES:Voksen
CATEGORIES:Språkkafé
CATEGORIES:fana infoskjerm
CONTACT:Fana bibliotek\, fanabibliotek@bergenbibliotek.no
CREATED;VALUE=DATE-TIME:20251103T091429Z
DESCRIPTION:Velkommen til språkkafé på Fana bibliotek - uansett hvor my
 e eller lite norsk du kan!
LAST-MODIFIED;VALUE=DATE-TIME:20251206T082710Z
LOCATION:Fana bibliotek\, salen
URL:https://bergenbibliotek.no/bibliotekene/fana/copy13_of_sprakkafe-langu
 age-cafe-16-des
END:VEVENT
BEGIN:VEVENT
SUMMARY:Hjelp til skolearbeidet - med Røde Kors
DTSTART;TZID=Europe/Oslo;VALUE=DATE-TIME:20260421T130000
DTEND;TZID=Europe/Oslo;VALUE=DATE-TIME:20260421T150000
DTSTAMP;VALUE=DATE-TIME:20260421T000117Z
UID:90230b5db2094cbbaa96075df5efbfb9
CATEGORIES:Åsane bibliotek
CATEGORIES:Åsane bibliotek infoskjerm
CATEGORIES:Leksehjelp
CATEGORIES:Læring
CATEGORIES:Ung
CONTACT:Mathilde H. Småvik\, Mathilde.Smavik@bergen.kommune.no\, https://
 fb.me/e/44vlecZJd
CREATED;VALUE=DATE-TIME:20260112T122748Z
DESCRIPTION:Trenger du et rolig sted å jobbe med lekser og skolearbeid?
LAST-MODIFIED;VALUE=DATE-TIME:20260112T133937Z
LOCATION:Åsane bibliotek
URL:https://bergenbibliotek.no/bibliotekene/aasane/hjelp-til-skolearbeidet
 -med-rode-kors-9
END:VEVENT
BEGIN:VEVENT
SUMMARY:Språkkafé på Åsane bibliotek/Language café at Åsane library
DTSTART;TZID=Europe/Oslo;VALUE=DATE-TIME:20260421T130000
DTEND;TZID=Europe/Oslo;VALUE=DATE-TIME:20260421T143000
DTSTAMP;VALUE=DATE-TIME:20260421T000118Z
UID:8dcd5b54c08246638203fe5f6fb56231
CATEGORIES:Språkkafé
CATEGORIES:Språk
CATEGORIES:Voksen
CATEGORIES:Læring
CATEGORIES:Åsane bibliotek
CATEGORIES:Åsane bibliotek infoskjerm
CONTACT:Anne Marie Morvik\, AnneMarie.Morvik@bergen.kommune.no\, https://f
 b.me/e/3YpEe5FTm
CREATED;VALUE=DATE-TIME:20260109T093327Z
DESCRIPTION:Lærer du norsk og ønsker å snakke med andre?
LAST-MODIFIED;VALUE=DATE-TIME:20260109T104221Z
LOCATION:Åsane bibliotek
URL:https://bergenbibliotek.no/bibliotekene/aasane/sprakkafe-pa-asane-bibl
 iotek-language-cafe-at-asane-library-10
END:VEVENT
BEGIN:VEVENT
SUMMARY:Open decks DJ med Kulturrommet UNG
DTSTART;TZID=Europe/Oslo;VALUE=DATE-TIME:20260421T150000
DTEND;TZID=Europe/Oslo;VALUE=DATE-TIME:20260421T190000
DTSTAMP;VALUE=DATE-TIME:20260421T000118Z
UID:b56a7d24e2fd4f7899d9f0cfb565a719
CATEGORIES:UNG
CATEGORIES:Hovedbiblioteket
CATEGORIES:Verksted
CREATED;VALUE=DATE-TIME:20260227T144325Z
DESCRIPTION:Kulturrommet UNG er en åpen møteplass for deg mellom 15–20
  år. Her kan du møte andre ungdommer\, delta på ulike kulturaktiviteter
  – eller henge.
LAST-MODIFIED;VALUE=DATE-TIME:20260413T130346Z
LOCATION:Hovedbiblioteket\, UROM 2. etasje
URL:https://bergenbibliotek.no/arrangement/ung-dj
END:VEVENT
BEGIN:VEVENT
SUMMARY:Dyplesning
DTSTART;TZID=Europe/Oslo;VALUE=DATE-TIME:20260421T160000
DTEND;TZID=Europe/Oslo;VALUE=DATE-TIME:20260421T200000
DTSTAMP;VALUE=DATE-TIME:20260421T000118Z
UID:709423312b29481a84518452870a1d51
CATEGORIES:Hovedbiblioteket
CATEGORIES:Dyplesning
CATEGORIES:Litteratur
CATEGORIES:Voksen
CREATED;VALUE=DATE-TIME:20260105T090511Z
DESCRIPTION:Synes du det er vanskelig å lese fokusert? Har du lyst til å
  koble av fra det digitale\, men strever med å gjøre det? Du er ikke den
  eneste. På Hovedbiblioteket arrangerer vi tilbudet Dyplesning\, for alle
  som trenger et trygt sted for å lese stille. Husk påmelding!
LAST-MODIFIED;VALUE=DATE-TIME:20260327T081246Z
LOCATION:Hovedbiblioteket\, Fabelrommet
URL:https://bergenbibliotek.no/arrangement/dyplesning-2026-4
END:VEVENT
BEGIN:VEVENT
SUMMARY:FanzineHub
DTSTART;TZID=Europe/Oslo;VALUE=DATE-TIME:20260421T163000
DTEND;TZID=Europe/Oslo;VALUE=DATE-TIME:20260421T191500
DTSTAMP;VALUE=DATE-TIME:20260421T000118Z
UID:0e966004912746d7b7110548230749e9
CATEGORIES:Ny-Krohnborg fellesbibliotek
CATEGORIES:Verksted
CATEGORIES:Voksen
CONTACT:Gunnbjørg\, gunnbjorg.johannessen@bergen.kommune.no
CREATED;VALUE=DATE-TIME:20260330T183231Z
DESCRIPTION:Et inspirasjonsverksted for voksne.
LAST-MODIFIED;VALUE=DATE-TIME:20260416T134933Z
LOCATION:Ny-Krohnborg fellesbibliotek
URL:https://bergenbibliotek.no/bibliotekene/ny-krohnborg-fellesbibliotek/f
 anzinehub
END:VEVENT
BEGIN:VEVENT
SUMMARY:Kurs i Jasminmasker
DTSTART;TZID=Europe/Oslo;VALUE=DATE-TIME:20260421T170000
DTEND;TZID=Europe/Oslo;VALUE=DATE-TIME:20260421T190000
DTSTAMP;VALUE=DATE-TIME:20260421T000118Z
UID:dd10d414d534481d84a1b0e41692a262
CATEGORIES:Håndarbeid
CATEGORIES:Hobby/Håndarbeid
CATEGORIES:Voksen
CATEGORIES:Loddefjord bibliotek
CREATED;VALUE=DATE-TIME:20260119T142131Z
DESCRIPTION:Lær å hekle jasminmasker (jasmine stitch)!
LAST-MODIFIED;VALUE=DATE-TIME:20260413T120236Z
LOCATION:Loddefjord bibliotek
URL:https://bergenbibliotek.no/bibliotekene/laksevag-bydel/kurs-i-jasminma
 sker-210426
END:VEVENT
BEGIN:VEVENT
SUMMARY:Norsktrening i regi av Røde Kors
DTSTART;TZID=Europe/Oslo;VALUE=DATE-TIME:20260421T170000
DTEND;TZID=Europe/Oslo;VALUE=DATE-TIME:20260421T190000
DTSTAMP;VALUE=DATE-TIME:20260421T000118Z
UID:0dc56c7a55f445e79f5ec7d949f52433
CATEGORIES:Hovedbiblioteket
CATEGORIES:Språk
CATEGORIES:Voksen
CATEGORIES:Norsktrening
CREATED;VALUE=DATE-TIME:20230102T102643Z
DESCRIPTION:Norsktrening er for flyktninger og innvandrere som vil trene p
 å norsk språk i en uformell sammenheng. Arrangeres i samarbeid med Røde
  Kors.
LAST-MODIFIED;VALUE=DATE-TIME:20260420T063850Z
LOCATION:Hovedbiblioteket\, Bærekraftslaben
URL:https://bergenbibliotek.no/arrangement/norsktrening-i-regi-av-rode-kor
 s-tirsdager
END:VEVENT
BEGIN:VEVENT
SUMMARY:Språkkafe på Ny-Krohnborg
DTSTART;TZID=Europe/Oslo;VALUE=DATE-TIME:20260421T170000
DTEND;TZID=Europe/Oslo;VALUE=DATE-TIME:20260421T183000
DTSTAMP;VALUE=DATE-TIME:20260421T000118Z
UID:203c312bd2124151958669a40c3ec920
CATEGORIES:Ny-Krohnborg fellesbibliotek
CATEGORIES:Språkkafé
CATEGORIES:Språk
CATEGORIES:Voksen
CONTACT:Løvstakken frivilligsentral\, post@lovstakken.frivilligsentral.no
CREATED;VALUE=DATE-TIME:20260102T120054Z
DESCRIPTION:Velkommen til språkkafé\, en møteplass hvor du kan praktise
 re og lære norsk.
LAST-MODIFIED;VALUE=DATE-TIME:20260116T100815Z
LOCATION:Ny-Krohnborg fellesbibliotek
URL:https://bergenbibliotek.no/bibliotekene/ny-krohnborg-fellesbibliotek/s
 prakkafe-pa-ny-krohnborg-15
END:VEVENT
BEGIN:VEVENT
SUMMARY:Arna litterære råd: "En ren besettelse: Basketak med D. H. Lawre
 nce" av Geoff Dyer
DTSTART;TZID=Europe/Oslo;VALUE=DATE-TIME:20260421T173000
DTEND;TZID=Europe/Oslo;VALUE=DATE-TIME:20260421T183000
DTSTAMP;VALUE=DATE-TIME:20260421T000118Z
UID:6ee1a3d81ee24f568268196bfa53a3b0
CATEGORIES:Lesesirkel
CATEGORIES:Litteratur
CATEGORIES:Voksen
CATEGORIES:Ytre Arna bibliotek
CREATED;VALUE=DATE-TIME:20251128T134059Z
DESCRIPTION:"Arna litterære råd" er en åpen lesegruppe arrangert av Ytr
 e Arna bibliotek.
LAST-MODIFIED;VALUE=DATE-TIME:20260318T110844Z
LOCATION:Ytre Arna bibliotek
URL:https://bergenbibliotek.no/arrangement/arna-litteraere-rad-en-ren-bese
 ttelse-basketak-med-d-h-lawrence-av-geoff-dyer
END:VEVENT
BEGIN:VEVENT
SUMMARY:Vi griller en SV-politiker. Spørretime med Eira Garrido
DTSTART;TZID=Europe/Oslo;VALUE=DATE-TIME:20260421T173000
DTEND;TZID=Europe/Oslo;VALUE=DATE-TIME:20260421T190000
DTSTAMP;VALUE=DATE-TIME:20260421T000118Z
UID:3311831d0b80467b88cf3c69c43454d1
CATEGORIES:Laksevåg
CATEGORIES:Laksevåg bibliotek
CATEGORIES:Debatt
CATEGORIES:Samtale
CATEGORIES:Voksen
CREATED;VALUE=DATE-TIME:20260211T142343Z
DESCRIPTION:Denne tirsdagen kommer politiker Eira Garrido til Laksevåg bi
 bliotek som gjest i vår arrangementsserie "Den offentlige samtalen". Hun 
 skal blant annet få bryne seg på spørsmål om hva det betyr å være et
  godt menneske og hvilke hensyn og verdier som bør styre våre valg?
LAST-MODIFIED;VALUE=DATE-TIME:20260415T153858Z
LOCATION:Laksevåg bibliotek
URL:https://bergenbibliotek.no/bibliotekene/laksevag-bydel/offentlige-samt
 alen-210426
END:VEVENT
BEGIN:VEVENT
SUMMARY:Ungdomskveld på Barnas BibLab!
DTSTART;TZID=Europe/Oslo;VALUE=DATE-TIME:20260421T180000
DTEND;TZID=Europe/Oslo;VALUE=DATE-TIME:20260421T200000
DTSTAMP;VALUE=DATE-TIME:20260421T000118Z
UID:fe955d2225754aeda2eb9ce205a71061
CATEGORIES:Barnas Biblab
CATEGORIES:Ungdom
CATEGORIES:UNG
CATEGORIES:Ungdomskveld
CREATED;VALUE=DATE-TIME:20260106T090546Z
DESCRIPTION:Ungdomskveld hver tirsdag på Barnas BibLab!
LAST-MODIFIED;VALUE=DATE-TIME:20260106T100105Z
LOCATION:Barnas BibLab\, Sletten senter (2. etasje)
URL:https://bergenbibliotek.no/bibliotekene/aarstadbibliotekene/copy13_of_
 ungdomskveld-pa-barnas-biblab
END:VEVENT
BEGIN:VTIMEZONE
TZID:Europe/Oslo
X-LIC-LOCATION:Europe/Oslo
BEGIN:DAYLIGHT
DTSTART;VALUE=DATE-TIME:20260329T030000
TZNAME:CEST
TZOFFSETFROM:+0100
TZOFFSETTO:+0200
END:DAYLIGHT
END:VTIMEZONE
END:VCALENDAR
