BEGIN:VCALENDAR
VERSION:2.0
PRODID:-//Plone.org//NONSGML plone.app.event//EN
X-WR-TIMEZONE:Europe/Oslo
BEGIN:VEVENT
SUMMARY:Språklek for de minste
DTSTART;TZID=Europe/Oslo;VALUE=DATE-TIME:20260424T101500
DTEND;TZID=Europe/Oslo;VALUE=DATE-TIME:20260424T111500
DTSTAMP;VALUE=DATE-TIME:20260424T103742Z
UID:e66cf11e07444accb2ea69a6edfb05a7
CATEGORIES:Fyllingsdalen bibliotek
CATEGORIES:Barn
CATEGORIES:Barn 0-2 år
CATEGORIES:Språklek
CATEGORIES:Språkleik
CONTACT:Reidun Digernes\, 5556 8500\, https://www.facebook.com/events/1954
 485868834824/
CREATED;VALUE=DATE-TIME:20260107T092128Z
LAST-MODIFIED;VALUE=DATE-TIME:20260123T093018Z
LOCATION:Fyllingsdalen bibliotek\, Venterommet
URL:https://bergenbibliotek.no/bibliotekene/fyllingsdalen/spraklek-for-de-
 minste-3
END:VEVENT
BEGIN:VEVENT
SUMMARY:Språkleik for dei minste
DTSTART;TZID=Europe/Oslo;VALUE=DATE-TIME:20260424T101500
DTEND;TZID=Europe/Oslo;VALUE=DATE-TIME:20260424T113000
DTSTAMP;VALUE=DATE-TIME:20260424T103742Z
UID:54ec8559661f45fb8ab61519c5525ed3
CATEGORIES:Fana bibliotek
CATEGORIES:Barn 0-2 år
CATEGORIES:Språkleik
CATEGORIES:Språklek
CATEGORIES:Barn
CONTACT:Fana bibliotek\, therese.pedersen4@bergenbibliotek.no
CREATED;VALUE=DATE-TIME:20250918T095623Z
DESCRIPTION:Ta med barnet ditt 0-2 år til song og språkleik på bibliote
 ket!
LAST-MODIFIED;VALUE=DATE-TIME:20260123T093046Z
LOCATION:Fana bibliotek\, salen
URL:https://bergenbibliotek.no/bibliotekene/fana/copy7_of_sprakleik-for-de
 i-minste-14
END:VEVENT
BEGIN:VEVENT
SUMMARY:Slektgransking på Åsane bibliotek
DTSTART;TZID=Europe/Oslo;VALUE=DATE-TIME:20260424T120000
DTEND;TZID=Europe/Oslo;VALUE=DATE-TIME:20260424T160000
DTSTAMP;VALUE=DATE-TIME:20260424T103742Z
UID:687b08d1be9a414ca2236816b3157988
CATEGORIES:Slektsgransking
CATEGORIES:Slekt og Data
CATEGORIES:Åsane bibliotek
CATEGORIES:Åsane bibliotek infoskjerm
CATEGORIES:Lokalhistorie
CATEGORIES:Voksen
CONTACT:Mathilde Haugland Småvik\, Mathilde.Smavik@bergen.kommune.no\, ht
 tps://fb.me/e/8jhhBOARw
CREATED;VALUE=DATE-TIME:20251217T163940Z
DESCRIPTION:Er du interessert i egen familiehistorie?
LAST-MODIFIED;VALUE=DATE-TIME:20251217T171044Z
LOCATION:Åsane bibliotek
URL:https://bergenbibliotek.no/bibliotekene/aasane/slektgransking-pa-asane
 -bibliotek-3
END:VEVENT
BEGIN:VEVENT
SUMMARY:Fredagsfølelsen
DTSTART;TZID=Europe/Oslo;VALUE=DATE-TIME:20260424T133000
DTEND;TZID=Europe/Oslo;VALUE=DATE-TIME:20260424T150000
DTSTAMP;VALUE=DATE-TIME:20260424T103742Z
UID:ccdfe2b2a518488ca7d016b9a533d82a
CATEGORIES:Fyllingsdalen bibliotek
CATEGORIES:Barn
CATEGORIES:Fredagsfølelsen
CATEGORIES:Barn 10-13
CATEGORIES:Spill
CONTACT:Elin Merete Flannum\, 5556 8500
CREATED;VALUE=DATE-TIME:20260409T111819Z
DESCRIPTION:Få fredagsfølelsen på Fyllingsdalen bibliotek!
LAST-MODIFIED;VALUE=DATE-TIME:20260414T092858Z
LOCATION:Fyllingsdalen bibliotek
URL:https://bergenbibliotek.no/bibliotekene/fyllingsdalen/fredagsfolelsen-
 3
END:VEVENT
BEGIN:VEVENT
SUMMARY:Barnas filmklubb: Kikis budservice
DTSTART;TZID=Europe/Oslo;VALUE=DATE-TIME:20260424T133000
DTEND;TZID=Europe/Oslo;VALUE=DATE-TIME:20260424T151500
DTSTAMP;VALUE=DATE-TIME:20260424T103742Z
UID:a0e4bd6affe74d76998daf04764dacce
CATEGORIES:Laksevåg bibliotek
CATEGORIES:Barn
CATEGORIES:Filmklubb
CATEGORIES:Film
CATEGORIES:Kino
CREATED;VALUE=DATE-TIME:20260114T161426Z
DESCRIPTION:I samarbeid med Bergen filmklubb viser Laksevåg bibliotek Kik
 is budservice av Hayao Miyazaki.
LAST-MODIFIED;VALUE=DATE-TIME:20260316T131218Z
LOCATION:Laksevåg bibliotek
URL:https://bergenbibliotek.no/bibliotekene/laksevag-bydel/barnasfilmklubb
 -kiki
END:VEVENT
BEGIN:VTIMEZONE
TZID:Europe/Oslo
X-LIC-LOCATION:Europe/Oslo
BEGIN:DAYLIGHT
DTSTART;VALUE=DATE-TIME:20260329T030000
TZNAME:CEST
TZOFFSETFROM:+0100
TZOFFSETTO:+0200
END:DAYLIGHT
END:VTIMEZONE
END:VCALENDAR
