BEGIN:VCALENDAR
VERSION:2.0
PRODID:-//Plone.org//NONSGML plone.app.event//EN
X-WR-TIMEZONE:Europe/Oslo
BEGIN:VEVENT
SUMMARY:Språkleik for dei minste
DTSTART;TZID=Europe/Oslo;VALUE=DATE-TIME:20260422T100000
DTEND;TZID=Europe/Oslo;VALUE=DATE-TIME:20260422T110000
DTSTAMP;VALUE=DATE-TIME:20260422T013017Z
UID:c88f35cfe53a4e2cbca8c191e572451a
CATEGORIES:Språklek
CATEGORIES:Språkleik
CATEGORIES:Barn 0-2 år
CATEGORIES:Åsane bibliotek
CATEGORIES:Barn
CONTACT:Ine Rebecca Janzon\, ine.janzon@bergen.kommune.no
CREATED;VALUE=DATE-TIME:20250903T150424Z
DESCRIPTION:Sang og leik med språk for 0-2 åringer.
LAST-MODIFIED;VALUE=DATE-TIME:20260223T142914Z
LOCATION:Åsane bibliotek
URL:https://bergenbibliotek.no/bibliotekene/aasane/copy7_of_sprakleik-for-
 dei-minste-1
END:VEVENT
BEGIN:VEVENT
SUMMARY:For barnehage: Lesestund på Fyllingsdalen bibliotek
DTSTART;TZID=Europe/Oslo;VALUE=DATE-TIME:20260422T100000
DTEND;TZID=Europe/Oslo;VALUE=DATE-TIME:20260422T103000
DTSTAMP;VALUE=DATE-TIME:20260422T013017Z
UID:b44f5e316c7c4551858a1e1f4f81e674
CATEGORIES:Fyllingsdalen bibliotek
CATEGORIES:Barnehage
CATEGORIES:Barn 3-6 år
CATEGORIES:Påmelding
CATEGORIES:Barn
CONTACT:Henriette Sverre\, 5556 8500\, https://billett.bergen.kommune.no/D
 etaljer/EVENT/2475
CREATED;VALUE=DATE-TIME:20260316T131416Z
DESCRIPTION:Bestilling av billetter til lesestund for april og mai
LAST-MODIFIED;VALUE=DATE-TIME:20260413T122305Z
LOCATION:Fyllingsdalen bibliotek
URL:https://bergenbibliotek.no/bibliotekene/fyllingsdalen/for-barnehage-le
 sestund-pa-fyllingsdalen-bibliotek-2
END:VEVENT
BEGIN:VEVENT
SUMMARY:Språkkafé / Language Café
DTSTART;TZID=Europe/Oslo;VALUE=DATE-TIME:20260422T123000
DTEND;TZID=Europe/Oslo;VALUE=DATE-TIME:20260422T140000
DTSTAMP;VALUE=DATE-TIME:20260422T013017Z
UID:55f95ca63e1d4f7c8d8b8eb9e43f6a4d
CATEGORIES:Språkkafé
CATEGORIES:Språk
CATEGORIES:Hovedbiblioteket
CATEGORIES:Voksen
CREATED;VALUE=DATE-TIME:20241217T150139Z
DESCRIPTION:Lærer du norsk\, og ønsker å snakke med andre?
LAST-MODIFIED;VALUE=DATE-TIME:20260116T100833Z
LOCATION:Hovedbiblioteket\, Bærekraftslaben
URL:https://bergenbibliotek.no/arrangement/sprakkafe-language-cafe-hb22-ap
 r
END:VEVENT
BEGIN:VEVENT
SUMMARY:Onsdagsverksted på Landås bibliotek
DTSTART;TZID=Europe/Oslo;VALUE=DATE-TIME:20260422T130000
DTEND;TZID=Europe/Oslo;VALUE=DATE-TIME:20260422T150000
DTSTAMP;VALUE=DATE-TIME:20260422T013017Z
UID:5122d96b74e84febacc6238dffec952e
CATEGORIES:Landås bibliotek
CATEGORIES:Barn
CATEGORIES:Verksted
CREATED;VALUE=DATE-TIME:20240822T133113Z
DESCRIPTION:Lag noe gøy etter skoletid!
LAST-MODIFIED;VALUE=DATE-TIME:20260206T081233Z
LOCATION:Landås bibliotek
URL:https://bergenbibliotek.no/bibliotekene/aarstadbibliotekene/onsdagsver
 ksted-pa-landas-bibliotek-22
END:VEVENT
BEGIN:VEVENT
SUMMARY:Ungdomskvelden: Verksted for ungdom
DTSTART;TZID=Europe/Oslo;VALUE=DATE-TIME:20260422T150000
DTEND;TZID=Europe/Oslo;VALUE=DATE-TIME:20260422T183000
DTSTAMP;VALUE=DATE-TIME:20260422T013017Z
UID:55f9227e59044bd9a6cf756a91c9edfb
CATEGORIES:Laksevåg bibliotek
CATEGORIES:UNG
CATEGORIES:Verksted
CREATED;VALUE=DATE-TIME:20260123T084124Z
DESCRIPTION:Bli med på verksted for ungdom!
LAST-MODIFIED;VALUE=DATE-TIME:20260126T144616Z
LOCATION:Laksevåg bibliotek
URL:https://bergenbibliotek.no/bibliotekene/laksevag-bydel/faste-hendelser
 -pa-laksevag/ungdomskvelden-verksted3
END:VEVENT
BEGIN:VEVENT
SUMMARY:Sjakkturnering med Kulturrommet UNG
DTSTART;TZID=Europe/Oslo;VALUE=DATE-TIME:20260422T150000
DTEND;TZID=Europe/Oslo;VALUE=DATE-TIME:20260422T190000
DTSTAMP;VALUE=DATE-TIME:20260422T013017Z
UID:48efc937be0c4499a03e898e76a030af
CATEGORIES:UNG
CATEGORIES:Hovedbiblioteket
CATEGORIES:Verksted
CATEGORIES:Spill
CREATED;VALUE=DATE-TIME:20260227T144325Z
DESCRIPTION:Kulturrommet UNG er en åpen møteplass for deg mellom 15–20
  år. Her kan du møte andre ungdommer\, delta på ulike kulturaktiviteter
  – eller henge.
LAST-MODIFIED;VALUE=DATE-TIME:20260415T124302Z
LOCATION:Hovedbiblioteket\, UROM 2. etasje
URL:https://bergenbibliotek.no/arrangement/ung-sjakk
END:VEVENT
BEGIN:VEVENT
SUMMARY:Flyttefest for frøbiblioteket
DTSTART;TZID=Europe/Oslo;VALUE=DATE-TIME:20260422T170000
DTEND;TZID=Europe/Oslo;VALUE=DATE-TIME:20260422T190000
DTSTAMP;VALUE=DATE-TIME:20260422T013017Z
UID:23db021e95f64533837b400784fc2a26
CATEGORIES:Landås bibliotek
CATEGORIES:Frøbiblioteket
CATEGORIES:Bærekraft
CATEGORIES:Voksen
CONTACT:Ine Lavik\, ine.lavik@bergen.kommune.no
CREATED;VALUE=DATE-TIME:20260324T090517Z
DESCRIPTION:Bli med på flyttefest med frøbytte og utstilling!
LAST-MODIFIED;VALUE=DATE-TIME:20260324T092521Z
LOCATION:Landås bibliotek
URL:https://bergenbibliotek.no/bibliotekene/aarstadbibliotekene/flyttefest
 -for-frobiblioteket
END:VEVENT
BEGIN:VEVENT
SUMMARY:Språkkafé
DTSTART;TZID=Europe/Oslo;VALUE=DATE-TIME:20260422T173000
DTEND;TZID=Europe/Oslo;VALUE=DATE-TIME:20260422T190000
DTSTAMP;VALUE=DATE-TIME:20260422T013017Z
UID:1795d9485aea474590ebf56db8eaeb69
CATEGORIES:Laksevåg
CATEGORIES:Laksevåg bibliotek
CATEGORIES:Språk
CATEGORIES:Språkkafe
CATEGORIES:Språkkafé
CATEGORIES:Norsktrening
CATEGORIES:Voksen
CREATED;VALUE=DATE-TIME:20260123T084124Z
DESCRIPTION:Bli med på norsktrening med frivillige fra Røde Kors og andr
 e som lærer norsk! / Practice norwegian with norwegian-speaking volunteer
 s from the Red Cross and other visitors!
LAST-MODIFIED;VALUE=DATE-TIME:20260326T172814Z
LOCATION:Laksevåg bibliotek
URL:https://bergenbibliotek.no/bibliotekene/laksevag-bydel/faste-hendelser
 -pa-laksevag/sprakkafe2204
END:VEVENT
BEGIN:VTIMEZONE
TZID:Europe/Oslo
X-LIC-LOCATION:Europe/Oslo
BEGIN:DAYLIGHT
DTSTART;VALUE=DATE-TIME:20260329T030000
TZNAME:CEST
TZOFFSETFROM:+0100
TZOFFSETTO:+0200
END:DAYLIGHT
END:VTIMEZONE
END:VCALENDAR
