BEGIN:VCALENDAR
VERSION:2.0
PRODID:-//Plone.org//NONSGML plone.app.event//EN
X-WR-TIMEZONE:Europe/Oslo
BEGIN:VEVENT
SUMMARY:Familielørdag: Dinosaurenes rekordbok
DTSTART;TZID=Europe/Oslo;VALUE=DATE-TIME:20260425T110000
DTEND;TZID=Europe/Oslo;VALUE=DATE-TIME:20260425T120000
DTSTAMP;VALUE=DATE-TIME:20260425T182900Z
UID:1dbdfda3c30f49e389d53418bf9b83ff
CATEGORIES:Familielørdag
CATEGORIES:Barn
CATEGORIES:Landås bibliotek
CREATED;VALUE=DATE-TIME:20260115T095656Z
DESCRIPTION:Sigbjørn og Reidar formidler fra boka Dinosaurenes rekordbok\
 , og gir oss viktig og fascinerende kunnskap om fortiden.
LAST-MODIFIED;VALUE=DATE-TIME:20260126T171533Z
LOCATION:Landås bibliotek
URL:https://bergenbibliotek.no/bibliotekene/aarstadbibliotekene/familielor
 dag-dinosaurenes-rekordbok
END:VEVENT
BEGIN:VEVENT
SUMMARY:Dansens dag
DTSTART;TZID=Europe/Oslo;VALUE=DATE-TIME:20260425T113000
DTEND;TZID=Europe/Oslo;VALUE=DATE-TIME:20260425T130000
DTSTAMP;VALUE=DATE-TIME:20260425T182900Z
UID:c524b43af8f44f89a1848c7ed1dc2fb6
CATEGORIES:dansensdag
CATEGORIES:Hovedbiblioteket
CATEGORIES:Voksen
CONTACT:Marie Amdam\, marie.amdam@bergen.kommune.no
CREATED;VALUE=DATE-TIME:20260417T094416Z
DESCRIPTION:Velkommen til Dansens dag på Hovedbiblioteket!
LAST-MODIFIED;VALUE=DATE-TIME:20260417T130810Z
LOCATION:Hovedbiblioteket\, UROM
URL:https://bergenbibliotek.no/arrangement/dansens-dag-1
END:VEVENT
BEGIN:VEVENT
SUMMARY:Barnekino. Pus med støvler: Et siste ønske [NY DATO]
DTSTART;TZID=Europe/Oslo;VALUE=DATE-TIME:20260425T120000
DTEND;TZID=Europe/Oslo;VALUE=DATE-TIME:20260425T140000
DTSTAMP;VALUE=DATE-TIME:20260425T182900Z
UID:7001aaf7ce144a3f9a02f66ed313c0a7
CATEGORIES:Film
CATEGORIES:Barnekino
CATEGORIES:Hovedbiblioteket
CATEGORIES:Barn
CREATED;VALUE=DATE-TIME:20260130T094307Z
DESCRIPTION:Bli med på et fantastisk eventyr med Pus med støvler. Denne 
 filmen er en av de aller beste fra de siste årene\, det synes i hvert fal
 l vi. Bli med!
LAST-MODIFIED;VALUE=DATE-TIME:20260326T172956Z
LOCATION:Hovedbiblioteket\, Audtoriet
URL:https://bergenbibliotek.no/arrangement/barnekino-pus-med-stovler-et-si
 ste-onske
END:VEVENT
BEGIN:VEVENT
SUMMARY:Familielørdag: Dinosaurenes rekordbok
DTSTART;TZID=Europe/Oslo;VALUE=DATE-TIME:20260425T140000
DTEND;TZID=Europe/Oslo;VALUE=DATE-TIME:20260425T143000
DTSTAMP;VALUE=DATE-TIME:20260425T182900Z
UID:1fba5cf3fe9f4fe39d39a61ebb14c50b
CATEGORIES:Fyllingsdalen bibliotek
CATEGORIES:Familielørdag
CATEGORIES:Barn
CATEGORIES:Barn 5+
CATEGORIES:Familiearrangement
CATEGORIES:Påmelding
CONTACT:Elin Merete Flannum\, 5556 8500\, https://billett.bergen.kommune.n
 o/Detaljer/EVENT/2311
CREATED;VALUE=DATE-TIME:20260115T095656Z
DESCRIPTION:Sigbjørn og Reidar formidler fra boka Dinosaurenes rekordbok\
 , og gir oss viktig og fascinerende kunnskap om fortiden.
LAST-MODIFIED;VALUE=DATE-TIME:20260115T095706Z
LOCATION:Fyllingsdalen bibliotek
URL:https://bergenbibliotek.no/bibliotekene/fyllingsdalen/familielordag-di
 nosaurenes-rekordbok
END:VEVENT
BEGIN:VEVENT
SUMMARY:Familielørdag: Lag et helt nytt eventyr med tegneserieskaper Ther
 ese G. Eide
DTSTART;TZID=Europe/Oslo;VALUE=DATE-TIME:20260425T140000
DTEND;TZID=Europe/Oslo;VALUE=DATE-TIME:20260425T143000
DTSTAMP;VALUE=DATE-TIME:20260425T182900Z
UID:2f8b407997ef424187f08e2b51c7cfa4
CATEGORIES:Barn
CATEGORIES:Familielørdag
CATEGORIES:Ytre Arna bibliotek
CATEGORIES:Ytre Arna
CONTACT:Trine Dale\, barnaas@bergenbibliotek.no
CREATED;VALUE=DATE-TIME:20260116T090931Z
DESCRIPTION:Therese G. Eide er tegneserieskaperen bak serien Intet nytt fr
 a hjemmefronten og barnebøkene om Askeladdene. Hun tegner og forteller me
 d utgangspunkt i eventyrbøkene og lar barna være med på å skape et flu
 nkende nytt eventyr!
LAST-MODIFIED;VALUE=DATE-TIME:20260424T060911Z
LOCATION:Ytre Arna bibliotek
URL:https://bergenbibliotek.no/bibliotekene/ytre-arna/familiesondag-lag-et
 -helt-nytt-eventyr-med-tegneserieskaper-therese-g-eide
END:VEVENT
BEGIN:VEVENT
SUMMARY:nyMusikk Krapyl: Patricia/Sigurd/Roar
DTSTART;TZID=Europe/Oslo;VALUE=DATE-TIME:20260425T143000
DTEND;TZID=Europe/Oslo;VALUE=DATE-TIME:20260425T150000
DTSTAMP;VALUE=DATE-TIME:20260425T182900Z
UID:401ef9b16c5e4f63922e50d22b5475d4
CATEGORIES:Hovedbiblioteket
CATEGORIES:nyMusikk
CATEGORIES:Musikk
CATEGORIES:Konsert
CATEGORIES:For alle
CREATED;VALUE=DATE-TIME:20260324T090338Z
DESCRIPTION:Ensemblet "Patricia/Sigurd/Roar"består av komponist Sigurd Fi
 scher Olsen (bratsj og effektpedaler)\, Patricia Michlits (blokkfløyter o
 g effektpedaler) og Roar Sletteland (vibrerende metallplate).
LAST-MODIFIED;VALUE=DATE-TIME:20260324T090346Z
LOCATION:Hovedbiblioteket\, Auditoriet
URL:https://bergenbibliotek.no/arrangement/nymusikk-krapyl-patricia-sigurd
 -roar
END:VEVENT
BEGIN:VTIMEZONE
TZID:Europe/Oslo
X-LIC-LOCATION:Europe/Oslo
BEGIN:DAYLIGHT
DTSTART;VALUE=DATE-TIME:20260329T030000
TZNAME:CEST
TZOFFSETFROM:+0100
TZOFFSETTO:+0200
END:DAYLIGHT
END:VTIMEZONE
END:VCALENDAR
